BEGIN:VCALENDAR
VERSION:2.0
PRODID:icalendar-ruby
CALSCALE:GREGORIAN
METHOD:PUBLISH
BEGIN:VTIMEZONE
TZID:Europe/Oslo
BEGIN:DAYLIGHT
DTSTART:20260329T030000
TZOFFSETFROM:+0100
TZOFFSETTO:+0200
RRULE:FREQ=YEARLY;BYDAY=-1SU;BYMONTH=3
TZNAME:CEST
END:DAYLIGHT
BEGIN:STANDARD
DTSTART:20261025T020000
TZOFFSETFROM:+0200
TZOFFSETTO:+0100
RRULE:FREQ=YEARLY;BYDAY=-1SU;BYMONTH=10
TZNAME:CET
END:STANDARD
END:VTIMEZONE
BEGIN:VEVENT
DTSTAMP:20260419T211902Z
UID:1110962
DTSTART;TZID=Europe/Oslo:20260521T200000
DTEND;TZID=Europe/Oslo:20260521T223000
LOCATION:Madam Felle
SEQUENCE:1776611255
SUMMARY:ViseBasaren med Dagfinn Iversen\, Aage Vaksdal og Kai Taule
END:VEVENT
END:VCALENDAR
